BEGIN:VCALENDAR
VERSION:2.0
PRODID:-//Kalender-Script//NONSGML Cal V.3//EN
CALSCALE:GREGORIAN
METHOD:PUBLISH
X-WR-CALNAME:Termin_1742
X-WR-TIMEZONE:Europe/Berlin
BEGIN:VTIMEZONE
TZID:Europe/Berlin
X-LIC-LOCATION:Europe/Berlin
BEGIN:DAYLIGHT
TZOFFSETFROM:+0100
TZOFFSETTO:+0200
DTSTART:19700329T020000
RRULE:FREQ=YEARLY;INTERVAL=1;BYDAY=-1SU;BYMONTH=3
TZNAME:CEST
END:DAYLIGHT
BEGIN:STANDARD
TZOFFSETFROM:+0200
TZOFFSETTO:+0100
DTSTART:19701025T030000
RRULE:FREQ=YEARLY;INTERVAL=1;BYDAY=-1SU;BYMONTH=10
TZNAME:CET
END:STANDARD
END:VTIMEZONE
BEGIN:VEVENT
UID:termin_384@www.eckstedt.de
CLASS:PUBLIC
DTSTART;TZID=Europe/Berlin:20260425T080000
DTEND;TZID=Europe/Berlin:20260425T100000
DTSTAMP:20260422T103100Z
SUMMARY:kein Name
URL;VALUE=URI:https://www.eckstedt.de/kalender35/kalender.php?kal_Aktion=detail&kal_Intervall=%5B%5D&kal_Nummer=384
END:VEVENT
BEGIN:VEVENT
UID:termin_393@www.eckstedt.de
CLASS:PUBLIC
DTSTART;TZID=Europe/Berlin:20260501T080000
DTEND;TZID=Europe/Berlin:20260501T100000
DTSTAMP:20260422T103100Z
SUMMARY:kein Name
URL;VALUE=URI:https://www.eckstedt.de/kalender35/kalender.php?kal_Aktion=detail&kal_Intervall=%5B%5D&kal_Nummer=393
END:VEVENT
BEGIN:VEVENT
UID:termin_411@www.eckstedt.de
CLASS:PUBLIC
DTSTART;TZID=Europe/Berlin:20260501T080000
DTEND;TZID=Europe/Berlin:20260501T100000
DTSTAMP:20260422T103100Z
SUMMARY:kein Name
URL;VALUE=URI:https://www.eckstedt.de/kalender35/kalender.php?kal_Aktion=detail&kal_Intervall=%5B%5D&kal_Nummer=411
END:VEVENT
BEGIN:VEVENT
UID:termin_385@www.eckstedt.de
CLASS:PUBLIC
DTSTART;TZID=Europe/Berlin:20260514T080000
DTEND;TZID=Europe/Berlin:20260514T100000
DTSTAMP:20260422T103100Z
SUMMARY:kein Name
URL;VALUE=URI:https://www.eckstedt.de/kalender35/kalender.php?kal_Aktion=detail&kal_Intervall=%5B%5D&kal_Nummer=385
END:VEVENT
BEGIN:VEVENT
UID:termin_412@www.eckstedt.de
CLASS:PUBLIC
DTSTART;TZID=Europe/Berlin:20260514T080000
DTEND;TZID=Europe/Berlin:20260514T100000
DTSTAMP:20260422T103100Z
SUMMARY:kein Name
URL;VALUE=URI:https://www.eckstedt.de/kalender35/kalender.php?kal_Aktion=detail&kal_Intervall=%5B%5D&kal_Nummer=412
END:VEVENT
BEGIN:VEVENT
UID:termin_376@www.eckstedt.de
CLASS:PUBLIC
DTSTART;TZID=Europe/Berlin:20260520T080000
DTEND;TZID=Europe/Berlin:20260520T100000
DTSTAMP:20260422T103100Z
SUMMARY:kein Name
URL;VALUE=URI:https://www.eckstedt.de/kalender35/kalender.php?kal_Aktion=detail&kal_Intervall=%5B%5D&kal_Nummer=376
END:VEVENT
BEGIN:VEVENT
UID:termin_413@www.eckstedt.de
CLASS:PUBLIC
DTSTART;TZID=Europe/Berlin:20260524T080000
DTEND;TZID=Europe/Berlin:20260524T100000
DTSTAMP:20260422T103100Z
SUMMARY:kein Name
URL;VALUE=URI:https://www.eckstedt.de/kalender35/kalender.php?kal_Aktion=detail&kal_Intervall=%5B%5D&kal_Nummer=413
END:VEVENT
BEGIN:VEVENT
UID:termin_414@www.eckstedt.de
CLASS:PUBLIC
DTSTART;TZID=Europe/Berlin:20260525T080000
DTEND;TZID=Europe/Berlin:20260525T100000
DTSTAMP:20260422T103100Z
SUMMARY:kein Name
URL;VALUE=URI:https://www.eckstedt.de/kalender35/kalender.php?kal_Aktion=detail&kal_Intervall=%5B%5D&kal_Nummer=414
END:VEVENT
BEGIN:VEVENT
UID:termin_401@www.eckstedt.de
CLASS:PUBLIC
DTSTART;TZID=Europe/Berlin:20260531T080000
DTEND;TZID=Europe/Berlin:20260531T100000
DTSTAMP:20260422T103100Z
SUMMARY:kein Name
URL;VALUE=URI:https://www.eckstedt.de/kalender35/kalender.php?kal_Aktion=detail&kal_Intervall=%5B%5D&kal_Nummer=401
END:VEVENT
BEGIN:VEVENT
UID:termin_398@www.eckstedt.de
CLASS:PUBLIC
DTSTART;TZID=Europe/Berlin:20260612T080000
DTEND;TZID=Europe/Berlin:20260612T100000
DTSTAMP:20260422T103100Z
SUMMARY:kein Name
URL;VALUE=URI:https://www.eckstedt.de/kalender35/kalender.php?kal_Aktion=detail&kal_Intervall=%5B%5D&kal_Nummer=398
END:VEVENT
BEGIN:VEVENT
UID:termin_399@www.eckstedt.de
CLASS:PUBLIC
DTSTART;TZID=Europe/Berlin:20260613T080000
DTEND;TZID=Europe/Berlin:20260613T100000
DTSTAMP:20260422T103100Z
SUMMARY:kein Name
URL;VALUE=URI:https://www.eckstedt.de/kalender35/kalender.php?kal_Aktion=detail&kal_Intervall=%5B%5D&kal_Nummer=399
END:VEVENT
BEGIN:VEVENT
UID:termin_400@www.eckstedt.de
CLASS:PUBLIC
DTSTART;TZID=Europe/Berlin:20260614T080000
DTEND;TZID=Europe/Berlin:20260614T100000
DTSTAMP:20260422T103100Z
SUMMARY:kein Name
URL;VALUE=URI:https://www.eckstedt.de/kalender35/kalender.php?kal_Aktion=detail&kal_Intervall=%5B%5D&kal_Nummer=400
END:VEVENT
BEGIN:VEVENT
UID:termin_378@www.eckstedt.de
CLASS:PUBLIC
DTSTART;TZID=Europe/Berlin:20260617T080000
DTEND;TZID=Europe/Berlin:20260617T100000
DTSTAMP:20260422T103100Z
SUMMARY:kein Name
URL;VALUE=URI:https://www.eckstedt.de/kalender35/kalender.php?kal_Aktion=detail&kal_Intervall=%5B%5D&kal_Nummer=378
END:VEVENT
BEGIN:VEVENT
UID:termin_407@www.eckstedt.de
CLASS:PUBLIC
DTSTART;TZID=Europe/Berlin:20260619T080000
DTEND;TZID=Europe/Berlin:20260619T100000
DTSTAMP:20260422T103100Z
SUMMARY:kein Name
URL;VALUE=URI:https://www.eckstedt.de/kalender35/kalender.php?kal_Aktion=detail&kal_Intervall=%5B%5D&kal_Nummer=407
END:VEVENT
BEGIN:VEVENT
UID:termin_379@www.eckstedt.de
CLASS:PUBLIC
DTSTART;TZID=Europe/Berlin:20260620T080000
DTEND;TZID=Europe/Berlin:20260620T100000
DTSTAMP:20260422T103100Z
SUMMARY:kein Name
URL;VALUE=URI:https://www.eckstedt.de/kalender35/kalender.php?kal_Aktion=detail&kal_Intervall=%5B%5D&kal_Nummer=379
END:VEVENT
BEGIN:VEVENT
UID:termin_402@www.eckstedt.de
CLASS:PUBLIC
DTSTART;TZID=Europe/Berlin:20260628T080000
DTEND;TZID=Europe/Berlin:20260628T100000
DTSTAMP:20260422T103100Z
SUMMARY:kein Name
URL;VALUE=URI:https://www.eckstedt.de/kalender35/kalender.php?kal_Aktion=detail&kal_Intervall=%5B%5D&kal_Nummer=402
END:VEVENT
BEGIN:VEVENT
UID:termin_394@www.eckstedt.de
CLASS:PUBLIC
DTSTART;TZID=Europe/Berlin:20260704T080000
DTEND;TZID=Europe/Berlin:20260704T100000
DTSTAMP:20260422T103100Z
SUMMARY:kein Name
URL;VALUE=URI:https://www.eckstedt.de/kalender35/kalender.php?kal_Aktion=detail&kal_Intervall=%5B%5D&kal_Nummer=394
END:VEVENT
BEGIN:VEVENT
UID:termin_386@www.eckstedt.de
CLASS:PUBLIC
DTSTART;TZID=Europe/Berlin:20260815T080000
DTEND;TZID=Europe/Berlin:20260815T100000
DTSTAMP:20260422T103100Z
SUMMARY:kein Name
URL;VALUE=URI:https://www.eckstedt.de/kalender35/kalender.php?kal_Aktion=detail&kal_Intervall=%5B%5D&kal_Nummer=386
END:VEVENT
BEGIN:VEVENT
UID:termin_405@www.eckstedt.de
CLASS:PUBLIC
DTSTART;TZID=Europe/Berlin:20260822T080000
DTEND;TZID=Europe/Berlin:20260822T100000
DTSTAMP:20260422T103100Z
SUMMARY:kein Name
URL;VALUE=URI:https://www.eckstedt.de/kalender35/kalender.php?kal_Aktion=detail&kal_Intervall=%5B%5D&kal_Nummer=405
END:VEVENT
BEGIN:VEVENT
UID:termin_403@www.eckstedt.de
CLASS:PUBLIC
DTSTART;TZID=Europe/Berlin:20260830T080000
DTEND;TZID=Europe/Berlin:20260830T100000
DTSTAMP:20260422T103100Z
SUMMARY:kein Name
URL;VALUE=URI:https://www.eckstedt.de/kalender35/kalender.php?kal_Aktion=detail&kal_Intervall=%5B%5D&kal_Nummer=403
END:VEVENT
BEGIN:VEVENT
UID:termin_387@www.eckstedt.de
CLASS:PUBLIC
DTSTART;TZID=Europe/Berlin:20260904T080000
DTEND;TZID=Europe/Berlin:20260904T100000
DTSTAMP:20260422T103100Z
SUMMARY:kein Name
URL;VALUE=URI:https://www.eckstedt.de/kalender35/kalender.php?kal_Aktion=detail&kal_Intervall=%5B%5D&kal_Nummer=387
END:VEVENT
BEGIN:VEVENT
UID:termin_388@www.eckstedt.de
CLASS:PUBLIC
DTSTART;TZID=Europe/Berlin:20260905T080000
DTEND;TZID=Europe/Berlin:20260905T100000
DTSTAMP:20260422T103100Z
SUMMARY:kein Name
URL;VALUE=URI:https://www.eckstedt.de/kalender35/kalender.php?kal_Aktion=detail&kal_Intervall=%5B%5D&kal_Nummer=388
END:VEVENT
BEGIN:VEVENT
UID:termin_389@www.eckstedt.de
CLASS:PUBLIC
DTSTART;TZID=Europe/Berlin:20260905T080000
DTEND;TZID=Europe/Berlin:20260905T100000
DTSTAMP:20260422T103100Z
SUMMARY:kein Name
URL;VALUE=URI:https://www.eckstedt.de/kalender35/kalender.php?kal_Aktion=detail&kal_Intervall=%5B%5D&kal_Nummer=389
END:VEVENT
BEGIN:VEVENT
UID:termin_390@www.eckstedt.de
CLASS:PUBLIC
DTSTART;TZID=Europe/Berlin:20260906T080000
DTEND;TZID=Europe/Berlin:20260906T100000
DTSTAMP:20260422T103100Z
SUMMARY:kein Name
URL;VALUE=URI:https://www.eckstedt.de/kalender35/kalender.php?kal_Aktion=detail&kal_Intervall=%5B%5D&kal_Nummer=390
END:VEVENT
BEGIN:VEVENT
UID:termin_415@www.eckstedt.de
CLASS:PUBLIC
DTSTART;TZID=Europe/Berlin:20260920T080000
DTEND;TZID=Europe/Berlin:20260920T100000
DTSTAMP:20260422T103100Z
SUMMARY:kein Name
URL;VALUE=URI:https://www.eckstedt.de/kalender35/kalender.php?kal_Aktion=detail&kal_Intervall=%5B%5D&kal_Nummer=415
END:VEVENT
BEGIN:VEVENT
UID:termin_420@www.eckstedt.de
CLASS:PUBLIC
DTSTART;TZID=Europe/Berlin:20261002T080000
DTEND;TZID=Europe/Berlin:20261002T100000
DTSTAMP:20260422T103100Z
SUMMARY:kein Name
URL;VALUE=URI:https://www.eckstedt.de/kalender35/kalender.php?kal_Aktion=detail&kal_Intervall=%5B%5D&kal_Nummer=420
END:VEVENT
BEGIN:VEVENT
UID:termin_421@www.eckstedt.de
CLASS:PUBLIC
DTSTART;TZID=Europe/Berlin:20261003T080000
DTEND;TZID=Europe/Berlin:20261003T100000
DTSTAMP:20260422T103100Z
SUMMARY:kein Name
URL;VALUE=URI:https://www.eckstedt.de/kalender35/kalender.php?kal_Aktion=detail&kal_Intervall=%5B%5D&kal_Nummer=421
END:VEVENT
BEGIN:VEVENT
UID:termin_416@www.eckstedt.de
CLASS:PUBLIC
DTSTART;TZID=Europe/Berlin:20261003T080000
DTEND;TZID=Europe/Berlin:20261003T100000
DTSTAMP:20260422T103100Z
SUMMARY:kein Name
URL;VALUE=URI:https://www.eckstedt.de/kalender35/kalender.php?kal_Aktion=detail&kal_Intervall=%5B%5D&kal_Nummer=416
END:VEVENT
BEGIN:VEVENT
UID:termin_422@www.eckstedt.de
CLASS:PUBLIC
DTSTART;TZID=Europe/Berlin:20261004T080000
DTEND;TZID=Europe/Berlin:20261004T100000
DTSTAMP:20260422T103100Z
SUMMARY:kein Name
URL;VALUE=URI:https://www.eckstedt.de/kalender35/kalender.php?kal_Aktion=detail&kal_Intervall=%5B%5D&kal_Nummer=422
END:VEVENT
BEGIN:VEVENT
UID:termin_380@www.eckstedt.de
CLASS:PUBLIC
DTSTART;TZID=Europe/Berlin:20261017T080000
DTEND;TZID=Europe/Berlin:20261017T100000
DTSTAMP:20260422T103100Z
SUMMARY:kein Name
URL;VALUE=URI:https://www.eckstedt.de/kalender35/kalender.php?kal_Aktion=detail&kal_Intervall=%5B%5D&kal_Nummer=380
END:VEVENT
BEGIN:VEVENT
UID:termin_396@www.eckstedt.de
CLASS:PUBLIC
DTSTART;TZID=Europe/Berlin:20261031T080000
DTEND;TZID=Europe/Berlin:20261031T100000
DTSTAMP:20260422T103100Z
SUMMARY:kein Name
URL;VALUE=URI:https://www.eckstedt.de/kalender35/kalender.php?kal_Aktion=detail&kal_Intervall=%5B%5D&kal_Nummer=396
END:VEVENT
BEGIN:VEVENT
UID:termin_417@www.eckstedt.de
CLASS:PUBLIC
DTSTART;TZID=Europe/Berlin:20261031T080000
DTEND;TZID=Europe/Berlin:20261031T100000
DTSTAMP:20260422T103100Z
SUMMARY:kein Name
URL;VALUE=URI:https://www.eckstedt.de/kalender35/kalender.php?kal_Aktion=detail&kal_Intervall=%5B%5D&kal_Nummer=417
END:VEVENT
BEGIN:VEVENT
UID:termin_381@www.eckstedt.de
CLASS:PUBLIC
DTSTART;TZID=Europe/Berlin:20261107T080000
DTEND;TZID=Europe/Berlin:20261107T100000
DTSTAMP:20260422T103100Z
SUMMARY:kein Name
URL;VALUE=URI:https://www.eckstedt.de/kalender35/kalender.php?kal_Aktion=detail&kal_Intervall=%5B%5D&kal_Nummer=381
END:VEVENT
BEGIN:VEVENT
UID:termin_406@www.eckstedt.de
CLASS:PUBLIC
DTSTART;TZID=Europe/Berlin:20261111T080000
DTEND;TZID=Europe/Berlin:20261111T100000
DTSTAMP:20260422T103100Z
SUMMARY:kein Name
URL;VALUE=URI:https://www.eckstedt.de/kalender35/kalender.php?kal_Aktion=detail&kal_Intervall=%5B%5D&kal_Nummer=406
END:VEVENT
BEGIN:VEVENT
UID:termin_383@www.eckstedt.de
CLASS:PUBLIC
DTSTART;TZID=Europe/Berlin:20261202T080000
DTEND;TZID=Europe/Berlin:20261202T100000
DTSTAMP:20260422T103100Z
SUMMARY:kein Name
URL;VALUE=URI:https://www.eckstedt.de/kalender35/kalender.php?kal_Aktion=detail&kal_Intervall=%5B%5D&kal_Nummer=383
END:VEVENT
BEGIN:VEVENT
UID:termin_397@www.eckstedt.de
CLASS:PUBLIC
DTSTART;TZID=Europe/Berlin:20261205T080000
DTEND;TZID=Europe/Berlin:20261205T100000
DTSTAMP:20260422T103100Z
SUMMARY:kein Name
URL;VALUE=URI:https://www.eckstedt.de/kalender35/kalender.php?kal_Aktion=detail&kal_Intervall=%5B%5D&kal_Nummer=397
END:VEVENT
BEGIN:VEVENT
UID:termin_404@www.eckstedt.de
CLASS:PUBLIC
DTSTART;TZID=Europe/Berlin:20261213T080000
DTEND;TZID=Europe/Berlin:20261213T100000
DTSTAMP:20260422T103100Z
SUMMARY:kein Name
URL;VALUE=URI:https://www.eckstedt.de/kalender35/kalender.php?kal_Aktion=detail&kal_Intervall=%5B%5D&kal_Nummer=404
END:VEVENT
BEGIN:VEVENT
UID:termin_395@www.eckstedt.de
CLASS:PUBLIC
DTSTART;TZID=Europe/Berlin:20261214T080000
DTEND;TZID=Europe/Berlin:20261214T100000
DTSTAMP:20260422T103100Z
SUMMARY:kein Name
URL;VALUE=URI:https://www.eckstedt.de/kalender35/kalender.php?kal_Aktion=detail&kal_Intervall=%5B%5D&kal_Nummer=395
END:VEVENT
BEGIN:VEVENT
UID:termin_424@www.eckstedt.de
CLASS:PUBLIC
DTSTART;TZID=Europe/Berlin:20261225T080000
DTEND;TZID=Europe/Berlin:20261225T100000
DTSTAMP:20260422T103100Z
SUMMARY:kein Name
URL;VALUE=URI:https://www.eckstedt.de/kalender35/kalender.php?kal_Aktion=detail&kal_Intervall=%5B%5D&kal_Nummer=424
END:VEVENT
BEGIN:VEVENT
UID:termin_419@www.eckstedt.de
CLASS:PUBLIC
DTSTART;TZID=Europe/Berlin:20261226T080000
DTEND;TZID=Europe/Berlin:20261226T100000
DTSTAMP:20260422T103100Z
SUMMARY:kein Name
URL;VALUE=URI:https://www.eckstedt.de/kalender35/kalender.php?kal_Aktion=detail&kal_Intervall=%5B%5D&kal_Nummer=419
END:VEVENT
BEGIN:VEVENT
UID:termin_423@www.eckstedt.de
CLASS:PUBLIC
DTSTART;TZID=Europe/Berlin:20261231T080000
DTEND;TZID=Europe/Berlin:20261231T100000
DTSTAMP:20260422T103100Z
SUMMARY:kein Name
URL;VALUE=URI:https://www.eckstedt.de/kalender35/kalender.php?kal_Aktion=detail&kal_Intervall=%5B%5D&kal_Nummer=423
END:VEVENT
END:VCALENDAR
